BEGIN:VCALENDAR
VERSION:2.0
PRODID:-//Gainsborough Tennis - ECPv6.15.20//NONSGML v1.0//EN
CALSCALE:GREGORIAN
METHOD:PUBLISH
X-WR-CALNAME:Gainsborough Tennis
X-ORIGINAL-URL:https://gainsboroughtennis.com
X-WR-CALDESC:Events for Gainsborough Tennis
REFRESH-INTERVAL;VALUE=DURATION:PT1H
X-Robots-Tag:noindex
X-PUBLISHED-TTL:PT1H
BEGIN:VTIMEZONE
TZID:Europe/London
BEGIN:DAYLIGHT
TZOFFSETFROM:+0000
TZOFFSETTO:+0100
TZNAME:BST
DTSTART:20250330T010000
END:DAYLIGHT
BEGIN:STANDARD
TZOFFSETFROM:+0100
TZOFFSETTO:+0000
TZNAME:GMT
DTSTART:20251026T010000
END:STANDARD
BEGIN:DAYLIGHT
TZOFFSETFROM:+0000
TZOFFSETTO:+0100
TZNAME:BST
DTSTART:20260329T010000
END:DAYLIGHT
BEGIN:STANDARD
TZOFFSETFROM:+0100
TZOFFSETTO:+0000
TZNAME:GMT
DTSTART:20261025T010000
END:STANDARD
BEGIN:DAYLIGHT
TZOFFSETFROM:+0000
TZOFFSETTO:+0100
TZNAME:BST
DTSTART:20270328T010000
END:DAYLIGHT
BEGIN:STANDARD
TZOFFSETFROM:+0100
TZOFFSETTO:+0000
TZNAME:GMT
DTSTART:20271031T010000
END:STANDARD
END:VTIMEZONE
BEGIN:VEVENT
DTSTART;TZID=Europe/London:20260802T140000
DTEND;TZID=Europe/London:20260802T173000
DTSTAMP:20260421T091832
CREATED:20190115T114521Z
LAST-MODIFIED:20260220T124705Z
UID:1268-1785679200-1785691800@gainsboroughtennis.com
SUMMARY:Mansfield Mixed Doubles Tournament
DESCRIPTION:The Len Mansfield Mixed Doubles Tournament is a round robin tournament with a different partner in each round. Enter without a partner. \n  \nWinners of 2025 tournament
URL:https://gainsboroughtennis.com/event/mansfield-mixed-doubles-tournament/
LOCATION:Gainsborough Tennis Club
CATEGORIES:Tournaments
ATTACH;FMTTYPE=image/jpeg:https://gainsboroughtennis.com/wp-content/uploads/2025/08/Mansfield25.jpeg
ORGANIZER;CN="Phil Green":MAILTO:phil@gainsboroughtennis.com
END:VEVENT
END:VCALENDAR