BEGIN:VCALENDAR
VERSION:2.0
PRODID:-//Gainsborough Tennis - ECPv6.15.20//NONSGML v1.0//EN
CALSCALE:GREGORIAN
METHOD:PUBLISH
X-WR-CALNAME:Gainsborough Tennis
X-ORIGINAL-URL:https://gainsboroughtennis.com
X-WR-CALDESC:Events for Gainsborough Tennis
REFRESH-INTERVAL;VALUE=DURATION:PT1H
X-Robots-Tag:noindex
X-PUBLISHED-TTL:PT1H
BEGIN:VTIMEZONE
TZID:Europe/London
BEGIN:DAYLIGHT
TZOFFSETFROM:+0000
TZOFFSETTO:+0100
TZNAME:BST
DTSTART:20230326T010000
END:DAYLIGHT
BEGIN:STANDARD
TZOFFSETFROM:+0100
TZOFFSETTO:+0000
TZNAME:GMT
DTSTART:20231029T010000
END:STANDARD
BEGIN:DAYLIGHT
TZOFFSETFROM:+0000
TZOFFSETTO:+0100
TZNAME:BST
DTSTART:20240331T010000
END:DAYLIGHT
BEGIN:STANDARD
TZOFFSETFROM:+0100
TZOFFSETTO:+0000
TZNAME:GMT
DTSTART:20241027T010000
END:STANDARD
BEGIN:DAYLIGHT
TZOFFSETFROM:+0000
TZOFFSETTO:+0100
TZNAME:BST
DTSTART:20250330T010000
END:DAYLIGHT
BEGIN:STANDARD
TZOFFSETFROM:+0100
TZOFFSETTO:+0000
TZNAME:GMT
DTSTART:20251026T010000
END:STANDARD
END:VTIMEZONE
BEGIN:VEVENT
DTSTART;TZID=Europe/London:20240720T190000
DTEND;TZID=Europe/London:20240720T230000
DTSTAMP:20260419T172020
CREATED:20240531T143118Z
LAST-MODIFIED:20240531T144059Z
UID:2965-1721502000-1721516400@gainsboroughtennis.com
SUMMARY:Picnic Party
DESCRIPTION:Come and join us at Morton Village Hall for an entertaining evening including live music from Smudge\, a raffle\, fun and games. Bring your own food and drinks. Admission only £5.00 \nFor tickets contact: \nPhil 07861 656337 \nClaire 07443 905858 \nKarl 07496 225898 \nThe event will run from 7:00pm to 11:00pm.
URL:https://gainsboroughtennis.com/event/picnic-party/
LOCATION:Morton Village Hall\, Morton\, Gainsborough\, Lincolnshire\, DN21 3AL\, United Kingdom
CATEGORIES:Socials
ATTACH;FMTTYPE=image/jpeg:https://gainsboroughtennis.com/wp-content/uploads/2024/05/TennisPicnicParty.jpg
ORGANIZER;CN="Phil Green":MAILTO:phil@gainsboroughtennis.com
END:VEVENT
END:VCALENDAR