BEGIN:VCALENDAR
VERSION:2.0
PRODID:-//Gainsborough Tennis - ECPv6.15.20//NONSGML v1.0//EN
CALSCALE:GREGORIAN
METHOD:PUBLISH
X-WR-CALNAME:Gainsborough Tennis
X-ORIGINAL-URL:https://gainsboroughtennis.com
X-WR-CALDESC:Events for Gainsborough Tennis
REFRESH-INTERVAL;VALUE=DURATION:PT1H
X-Robots-Tag:noindex
X-PUBLISHED-TTL:PT1H
BEGIN:VTIMEZONE
TZID:Europe/London
BEGIN:DAYLIGHT
TZOFFSETFROM:+0000
TZOFFSETTO:+0100
TZNAME:BST
DTSTART:20240331T010000
END:DAYLIGHT
BEGIN:STANDARD
TZOFFSETFROM:+0100
TZOFFSETTO:+0000
TZNAME:GMT
DTSTART:20241027T010000
END:STANDARD
BEGIN:DAYLIGHT
TZOFFSETFROM:+0000
TZOFFSETTO:+0100
TZNAME:BST
DTSTART:20250330T010000
END:DAYLIGHT
BEGIN:STANDARD
TZOFFSETFROM:+0100
TZOFFSETTO:+0000
TZNAME:GMT
DTSTART:20251026T010000
END:STANDARD
BEGIN:DAYLIGHT
TZOFFSETFROM:+0000
TZOFFSETTO:+0100
TZNAME:BST
DTSTART:20260329T010000
END:DAYLIGHT
BEGIN:STANDARD
TZOFFSETFROM:+0100
TZOFFSETTO:+0000
TZNAME:GMT
DTSTART:20261025T010000
END:STANDARD
END:VTIMEZONE
BEGIN:VEVENT
DTSTART;TZID=Europe/London:20250824T100000
DTEND;TZID=Europe/London:20250824T160000
DTSTAMP:20260419T172041
CREATED:20250809T164848Z
LAST-MODIFIED:20250810T072143Z
UID:3207-1756029600-1756051200@gainsboroughtennis.com
SUMMARY:Tennis-a-thon
DESCRIPTION:Gainsborough Tennis Club is holding a Tennis-a-thon in support of Young Lives V Cancer. \nDonations are welcome on the day either in cash or by BACS transfer. \nCome along and join in – challenges will include Pickle Tennis\, Touch Tennis!
URL:https://gainsboroughtennis.com/event/tennis-a-thon/
LOCATION:Gainsborough Tennis Club
CATEGORIES:Socials
ATTACH;FMTTYPE=image/jpeg:https://gainsboroughtennis.com/wp-content/uploads/2025/08/YLM2.jpeg
END:VEVENT
END:VCALENDAR