BEGIN:VCALENDAR
VERSION:2.0
PRODID:-//Gainsborough Tennis - ECPv6.15.20//NONSGML v1.0//EN
CALSCALE:GREGORIAN
METHOD:PUBLISH
X-ORIGINAL-URL:https://gainsboroughtennis.com
X-WR-CALDESC:Events for Gainsborough Tennis
REFRESH-INTERVAL;VALUE=DURATION:PT1H
X-Robots-Tag:noindex
X-PUBLISHED-TTL:PT1H
BEGIN:VTIMEZONE
TZID:Europe/London
BEGIN:DAYLIGHT
TZOFFSETFROM:+0000
TZOFFSETTO:+0100
TZNAME:BST
DTSTART:20220327T010000
END:DAYLIGHT
BEGIN:STANDARD
TZOFFSETFROM:+0100
TZOFFSETTO:+0000
TZNAME:GMT
DTSTART:20221030T010000
END:STANDARD
BEGIN:DAYLIGHT
TZOFFSETFROM:+0000
TZOFFSETTO:+0100
TZNAME:BST
DTSTART:20230326T010000
END:DAYLIGHT
BEGIN:STANDARD
TZOFFSETFROM:+0100
TZOFFSETTO:+0000
TZNAME:GMT
DTSTART:20231029T010000
END:STANDARD
BEGIN:DAYLIGHT
TZOFFSETFROM:+0000
TZOFFSETTO:+0100
TZNAME:BST
DTSTART:20240331T010000
END:DAYLIGHT
BEGIN:STANDARD
TZOFFSETFROM:+0100
TZOFFSETTO:+0000
TZNAME:GMT
DTSTART:20241027T010000
END:STANDARD
BEGIN:DAYLIGHT
TZOFFSETFROM:+0000
TZOFFSETTO:+0100
TZNAME:BST
DTSTART:20250330T010000
END:DAYLIGHT
BEGIN:STANDARD
TZOFFSETFROM:+0100
TZOFFSETTO:+0000
TZNAME:GMT
DTSTART:20251026T010000
END:STANDARD
BEGIN:DAYLIGHT
TZOFFSETFROM:+0000
TZOFFSETTO:+0100
TZNAME:BST
DTSTART:20260329T010000
END:DAYLIGHT
BEGIN:STANDARD
TZOFFSETFROM:+0100
TZOFFSETTO:+0000
TZNAME:GMT
DTSTART:20261025T010000
END:STANDARD
BEGIN:DAYLIGHT
TZOFFSETFROM:+0000
TZOFFSETTO:+0100
TZNAME:BST
DTSTART:20270328T010000
END:DAYLIGHT
BEGIN:STANDARD
TZOFFSETFROM:+0100
TZOFFSETTO:+0000
TZNAME:GMT
DTSTART:20271031T010000
END:STANDARD
END:VTIMEZONE
BEGIN:VEVENT
DTSTART;TZID=Europe/London:20260403T190000
DTEND;TZID=Europe/London:20260403T210000
DTSTAMP:20260419T143313
CREATED:20250820T055840Z
LAST-MODIFIED:20260220T170927Z
UID:3225-1775242800-1775250000@gainsboroughtennis.com
SUMMARY:Superb Sausage Sizzle
DESCRIPTION:The Superb Sausage Sizzler is held on the first Friday of every month. This is an informal tournament with a returnable trophy followed by a barbeque. Please bring your own food. It’s a 7:00 start! You don’t need to enter in advance – just show up. Enquiries to Adonis please.
URL:https://gainsboroughtennis.com/event/superb-sausage-sizzle/
LOCATION:Gainsborough Tennis Club
CATEGORIES:Tournaments
ATTACH;FMTTYPE=image/jpeg:https://gainsboroughtennis.com/wp-content/uploads/2025/08/Sizzle_2c.jpg
END:VEVENT
BEGIN:VEVENT
DTSTART;TZID=Europe/London:20260306T190000
DTEND;TZID=Europe/London:20260306T210000
DTSTAMP:20260419T143313
CREATED:20250811T180027Z
LAST-MODIFIED:20260220T170850Z
UID:3214-1772823600-1772830800@gainsboroughtennis.com
SUMMARY:Superb Sausage Sizzler
DESCRIPTION:On the first Friday of every month\, the Superb Sausage Sizzler is held. This is an informal tournament with a returnable trophy followed by a barbeque. Please bring your own food. It’s a 7:00 start! You don’t need to enter in advance – just show up. Enquiries to Adonis please.
URL:https://gainsboroughtennis.com/event/superb-sausage-sizzler/
LOCATION:Gainsborough Tennis Club
CATEGORIES:Tournaments
ATTACH;FMTTYPE=image/jpeg:https://gainsboroughtennis.com/wp-content/uploads/2025/08/Sizzle_2c.jpg
END:VEVENT
BEGIN:VEVENT
DTSTART;TZID=Europe/London:20250914T140000
DTEND;TZID=Europe/London:20250914T170000
DTSTAMP:20260419T143313
CREATED:20240213T193310Z
LAST-MODIFIED:20250828T150819Z
UID:2894-1757858400-1757869200@gainsboroughtennis.com
SUMMARY:Mens Doubles Tournament
DESCRIPTION:Mens Doubles Tournament for players who play in Gainsborough Evening Tennis League (for any club). \nEnter with a partner. Entry fee is £10.00 per pair. \nEntries to Phil Green up to 3 days before the event please. \nPay on the day.
URL:https://gainsboroughtennis.com/event/mens-doubles-tournament/
LOCATION:Gainsborough Tennis Club
CATEGORIES:Tournaments
ATTACH;FMTTYPE=image/jpeg:https://gainsboroughtennis.com/wp-content/uploads/2021/09/236A1662-scaled.jpg
ORGANIZER;CN="Phil Green":MAILTO:phil@gainsboroughtennis.com
END:VEVENT
BEGIN:VEVENT
DTSTART;TZID=Europe/London:20250703T093000
DTEND;TZID=Europe/London:20250703T130000
DTSTAMP:20260419T143313
CREATED:20220501T070033Z
LAST-MODIFIED:20250713T074139Z
UID:1541-1751535000-1751547600@gainsboroughtennis.com
SUMMARY:June Wright Memorial Tournament
DESCRIPTION:The June Wright Memorial Tournament is a ladies’ event held in memory of the late June Wright.  Please enter as an individual player for this ladies’ event.  The entry fee is £15 and a sit-down meal and Pimms are included.  Play starts at 9:30 finishing with lunch around 1:00pm. Tea and coffee will be available from 9:00am. \nEntries can be made online with payment in advance by bank transfer.  Your entry is not complete until payment has been made. \nEVENT CANCELLED FOR 2025 \nEnter tournament HERE \n \n \nEntries close at 6:00pm on Monday 14 July 2025.
URL:https://gainsboroughtennis.com/event/ladies-summer-tournament/
LOCATION:Gainsborough Tennis Club
CATEGORIES:Tournaments
ATTACH;FMTTYPE=image/jpeg:https://gainsboroughtennis.com/wp-content/uploads/2022/05/JunePIC2.jpg
ORGANIZER;CN="Judith Brennan":MAILTO:judithbrennan@burtonlaw.co.uk
END:VEVENT
BEGIN:VEVENT
DTSTART;TZID=Europe/London:20250601T140000
DTEND;TZID=Europe/London:20250601T170000
DTSTAMP:20260419T143313
CREATED:20240213T192955Z
LAST-MODIFIED:20250429T090640Z
UID:2892-1748786400-1748797200@gainsboroughtennis.com
SUMMARY:Ladies Doubles Tournament
DESCRIPTION:Ladies Doubles Tournament for players who play in Gainsborough Evening Tennis League (for any club). \nEnter with a partner. Entry fee is £10.00 per pair. \n 
URL:https://gainsboroughtennis.com/event/ladies-doubles-tournament/
LOCATION:Gainsborough Tennis Club
CATEGORIES:Tournaments
ATTACH;FMTTYPE=image/jpeg:https://gainsboroughtennis.com/wp-content/uploads/2022/08/236A1114-scaled.jpg
ORGANIZER;CN="Phil Green":MAILTO:phil@gainsboroughtennis.com
END:VEVENT
BEGIN:VEVENT
DTSTART;TZID=Europe/London:20230903T150000
DTEND;TZID=Europe/London:20230903T183000
DTSTAMP:20260419T143313
CREATED:20190827T115643Z
LAST-MODIFIED:20230228T133436Z
UID:1871-1693753200-1693765800@gainsboroughtennis.com
SUMMARY:GETL - TOURNAMENT FINALS DAY
DESCRIPTION:Brittain Tournament Final and Holmes Tournament Final \nPresentation to the League Winners \nFree Buffet – Pimms\nEveryone welcome – Free entry
URL:https://gainsboroughtennis.com/event/getl-tournament-finals-day/
LOCATION:Gainsborough Tennis Club
CATEGORIES:Tournaments
ATTACH;FMTTYPE=image/jpeg:https://gainsboroughtennis.com/wp-content/uploads/2019/03/MG_8681.jpg
ORGANIZER;CN="Phil Green":MAILTO:phil@gainsboroughtennis.com
END:VEVENT
END:VCALENDAR